BEGIN:VCALENDAR
VERSION:2.0
PRODID:-//wp-events-plugin.com//7.2.3.1//EN
TZID:America/New_York
X-WR-TIMEZONE:America/New_York
BEGIN:VEVENT
UID:50@nyscannabis.net
DTSTART;TZID=America/New_York:20231210T140000
DTEND;TZID=America/New_York:20231210T145000
DTSTAMP:20231210T135623Z
URL:https://nyscannabis.net/events/workshop-the-legal-home-grow/
SUMMARY:Workshop: The Legal Home Grow
DESCRIPTION:The Legal Home Grow:\nLegal issues surrounding your Home Grow a
 nd how to legally sell plants.\n\nMichael McGuire\nStable Garden\nHome Cul
 tivation Association of New York\nFREE with Registration!\n
ATTACH;FMTTYPE=image/jpeg:https://nyscannabis.net/wp-content/uploads/2022/
 10/mMcguire.jpg
CATEGORIES:Better A Better Grower Workshop Series,Workshops
LOCATION:Empire State Plaza Convention Center - Meeting Room 4\, 279 Madiso
 n Ave\, Albany\, NY\, 12242\, United States
X-APPLE-STRUCTURED-LOCATION;VALUE=URI;X-ADDRESS=279 Madison Ave\, Albany\, 
 NY\, 12242\, United States;X-APPLE-RADIUS=100;X-TITLE=Empire State Plaza C
 onvention Center - Meeting Room 4:geo:0,0
END:VEVENT
BEGIN:VTIMEZONE
TZID:America/New_York
X-LIC-LOCATION:America/New_York
BEGIN:STANDARD
DTSTART:20231105T010000
TZOFFSETFROM:-0400
TZOFFSETTO:-0500
TZNAME:EST
END:STANDARD
END:VTIMEZONE
END:VCALENDAR