BEGIN:VCALENDAR
VERSION:2.0
PRODID:-//wp-events-plugin.com//7.2.3.1//EN
TZID:America/New_York
X-WR-TIMEZONE:America/New_York
BEGIN:VEVENT
UID:56@nyscannabis.net
DTSTART;TZID=America/New_York:20231210T133000
DTEND;TZID=America/New_York:20231210T142000
DTSTAMP:20231204T192652Z
URL:https://nyscannabis.net/events/workshop-nys-ocm-update-projections/
SUMMARY:Main Stage: NYS OCM Update & Projections
DESCRIPTION:NYS OCM Update &amp\; Projections:\n\n\nJason Salmon\nNew York 
 State Office of Cannabis Management\nFREE with Registration!\n
ATTACH;FMTTYPE=image/jpeg:https://nyscannabis.net/wp-content/uploads/2022/
 10/jSalmon.jpg
CATEGORIES:Business,Main Stage,Workshops
LOCATION:Empire State Plaza Convention Center - Main Stage\, 279 Madison Av
 e\, Albany\, NY\, 12242\, United States
X-APPLE-STRUCTURED-LOCATION;VALUE=URI;X-ADDRESS=279 Madison Ave\, Albany\, 
 NY\, 12242\, United States;X-APPLE-RADIUS=100;X-TITLE=Empire State Plaza C
 onvention Center - Main Stage:geo:0,0
END:VEVENT
BEGIN:VTIMEZONE
TZID:America/New_York
X-LIC-LOCATION:America/New_York
BEGIN:STANDARD
DTSTART:20231105T010000
TZOFFSETFROM:-0400
TZOFFSETTO:-0500
TZNAME:EST
END:STANDARD
END:VTIMEZONE
END:VCALENDAR