BEGIN:VCALENDAR
VERSION:2.0
PRODID:-//wp-events-plugin.com//7.2.3.1//EN
TZID:America/New_York
X-WR-TIMEZONE:America/New_York
BEGIN:VEVENT
UID:58@nyscannabis.net
DTSTART;TZID=America/New_York:20231209T190000
DTEND;TZID=America/New_York:20231209T195000
DTSTAMP:20231204T190915Z
URL:https://nyscannabis.net/events/workshop-nys-ocm-adult-use-licensing-ta
 lk/
SUMMARY:Workshop: NYS OCM Adult Use Licensing Talk
DESCRIPTION:NYS OCM Adult Use Licensing:\nPre &amp\; Post-App Legal Conside
 rations w/ Q&amp\;A Session\n&nbsp\;\n\nHOSTED BY:\nSaladin Amir\nTrichome
 s ConsultingLLC\n\nMatthew Leonardo\nHinman Straub\nAlbany Law School\n\n\
 nBenjamin Rattner\nCermelle &amp\; Wood\, LLP\nFREE with Registration!\n
ATTACH;FMTTYPE=image/jpeg:https://nyscannabis.net/wp-content/uploads/2023/
 11/argus.jpg
CATEGORIES:Networking,Workshops
LOCATION:The Argus Hotel & Cocktail Lounge\, 8 Thurlow Terrace\, Albany\, N
 Y\, 12203\, United States
X-APPLE-STRUCTURED-LOCATION;VALUE=URI;X-ADDRESS=8 Thurlow Terrace\, Albany\
 , NY\, 12203\, United States;X-APPLE-RADIUS=100;X-TITLE=The Argus Hotel & 
 Cocktail Lounge:geo:0,0
END:VEVENT
BEGIN:VTIMEZONE
TZID:America/New_York
X-LIC-LOCATION:America/New_York
BEGIN:STANDARD
DTSTART:20231105T010000
TZOFFSETFROM:-0400
TZOFFSETTO:-0500
TZNAME:EST
END:STANDARD
END:VTIMEZONE
END:VCALENDAR