BEGIN:VCALENDAR
VERSION:2.0
PRODID:-//wp-events-plugin.com//7.2.3.1//EN
TZID:America/New_York
X-WR-TIMEZONE:America/New_York
BEGIN:VEVENT
UID:49@nyscannabis.net
DTSTART;TZID=America/New_York:20231210T130000
DTEND;TZID=America/New_York:20231210T135000
DTSTAMP:20231210T135515Z
URL:https://nyscannabis.net/events/workshop-from-closet-to-canopy/
SUMMARY:Workshop: From Closet to Canopy
DESCRIPTION:From Closet To Canopy:\nExplore the life cycle of the cannabis 
 plant in our course\, covering the fundamentals from seed to harvest. Lear
 n how to create an ideal environment for your plants\, including optimal l
 ight\, nutrient cycles\, and space usage\, all customized to your home / p
 roject. Our expert-led session will guide you through each growth stage\, 
 ensuring you master cultivation techniques for robust and high-yielding ca
 nnabis. Transform your space into a successful home cultivation.\n\nDeivid
  Elliot\nThe New Grow Center\nFREE with Registration!\n
ATTACH;FMTTYPE=image/jpeg:https://nyscannabis.net/wp-content/uploads/2022/
 10/dElliott.jpg
CATEGORIES:Better A Better Grower Workshop Series,Workshops
LOCATION:Empire State Plaza Convention Center - Meeting Room 5\, 279 Madiso
 n Ave\, Albany\, NY\, 12242\, United States
X-APPLE-STRUCTURED-LOCATION;VALUE=URI;X-ADDRESS=279 Madison Ave\, Albany\, 
 NY\, 12242\, United States;X-APPLE-RADIUS=100;X-TITLE=Empire State Plaza C
 onvention Center - Meeting Room 5:geo:0,0
END:VEVENT
BEGIN:VTIMEZONE
TZID:America/New_York
X-LIC-LOCATION:America/New_York
BEGIN:STANDARD
DTSTART:20231105T010000
TZOFFSETFROM:-0400
TZOFFSETTO:-0500
TZNAME:EST
END:STANDARD
END:VTIMEZONE
END:VCALENDAR