BEGIN:VCALENDAR
VERSION:2.0
PRODID:-//wp-events-plugin.com//7.2.3.1//EN
TZID:America/New_York
X-WR-TIMEZONE:America/New_York
BEGIN:VEVENT
UID:53@nyscannabis.net
DTSTART;TZID=America/New_York:20231210T130000
DTEND;TZID=America/New_York:20231210T135000
DTSTAMP:20231210T135542Z
URL:https://nyscannabis.net/events/workshop-empowerment-advocacy/
SUMMARY:Workshop: Empowerment & Advocacy
DESCRIPTION:Empowerment &amp\; Advocacy:\nThe Intersection of\nLGBTQ+ Commu
 nity\, Cannabis Activism\, and\nHonoring Pioneering Work\n\n\nThis lecture
  explores the dynamic intersectionality between the LGBTQ+\ncommunity\, ca
 nnabis activism\, and the imperative of honoring the pioneering efforts th
 at have shaped both movements. From historical struggles to contemporary t
 riumphs\, the discussion weaves together the narratives of resilience\, em
 powerment\, and the ongoing pursuit of justice.\n\nTyme Ferris\nPantheon P
 erspective LLC\nFREE with Registration!\n
ATTACH;FMTTYPE=image/jpeg:https://nyscannabis.net/wp-content/uploads/2022/
 10/tFerris.jpg
CATEGORIES:Empowerment &amp; Advocacy,Workshops
LOCATION:Empire State Plaza Convention Center - Meeting Room 4\, 279 Madiso
 n Ave\, Albany\, NY\, 12242\, United States
X-APPLE-STRUCTURED-LOCATION;VALUE=URI;X-ADDRESS=279 Madison Ave\, Albany\, 
 NY\, 12242\, United States;X-APPLE-RADIUS=100;X-TITLE=Empire State Plaza C
 onvention Center - Meeting Room 4:geo:0,0
END:VEVENT
BEGIN:VTIMEZONE
TZID:America/New_York
X-LIC-LOCATION:America/New_York
BEGIN:STANDARD
DTSTART:20231105T010000
TZOFFSETFROM:-0400
TZOFFSETTO:-0500
TZNAME:EST
END:STANDARD
END:VTIMEZONE
END:VCALENDAR