BEGIN:VCALENDAR
VERSION:2.0
PRODID:-//wp-events-plugin.com//7.2.3.1//EN
TZID:America/New_York
X-WR-TIMEZONE:America/New_York
BEGIN:VEVENT
UID:54@nyscannabis.net
DTSTART;TZID=America/New_York:20231210T140000
DTEND;TZID=America/New_York:20231210T145000
DTSTAMP:20231210T135704Z
URL:https://nyscannabis.net/events/workshop-choosing-the-right-consumables
 -for-you/
SUMMARY:Workshop: Choosing The Right Consumables For You
DESCRIPTION:Choosing The Right Consumables For You:\nAsk questions and find
  out what is the best consumption method for you\nfrom Stage One Dispensar
 y Owners and Budtenders.\n\nStage One Dispensary\nFREE with Registration!\
 n
ATTACH;FMTTYPE=image/jpeg:https://nyscannabis.net/wp-content/uploads/2023/
 11/stage_one_logo_-_weed_maps.jpg
CATEGORIES:Health &amp; Wellness,Workshops
LOCATION:Empire State Plaza Convention Center - Meeting Room 5\, 279 Madiso
 n Ave\, Albany\, NY\, 12242\, United States
X-APPLE-STRUCTURED-LOCATION;VALUE=URI;X-ADDRESS=279 Madison Ave\, Albany\, 
 NY\, 12242\, United States;X-APPLE-RADIUS=100;X-TITLE=Empire State Plaza C
 onvention Center - Meeting Room 5:geo:0,0
END:VEVENT
BEGIN:VTIMEZONE
TZID:America/New_York
X-LIC-LOCATION:America/New_York
BEGIN:STANDARD
DTSTART:20231105T010000
TZOFFSETFROM:-0400
TZOFFSETTO:-0500
TZNAME:EST
END:STANDARD
END:VTIMEZONE
END:VCALENDAR