BEGIN:VCALENDAR
VERSION:2.0
PRODID:-//wp-events-plugin.com//7.2.3.1//EN
TZID:America/New_York
X-WR-TIMEZONE:America/New_York
BEGIN:VEVENT
UID:55@nyscannabis.net
DTSTART;TZID=America/New_York:20231210T150000
DTEND;TZID=America/New_York:20231210T155000
DTSTAMP:20231210T135909Z
URL:https://nyscannabis.net/events/workshop-cannabis-pain-management/
SUMMARY:Workshop: Cannabis & Pain Management
DESCRIPTION:Cannabis &amp\; Pain Management:\nHow Biochemically Cannabis de
 creases pain in the bodies pathways.\n\nDr. Kristine DeMarco\nGreenleaf Ca
 nnabis LLC\nFREE with Registration!\n
ATTACH;FMTTYPE=image/jpeg:https://nyscannabis.net/wp-content/uploads/2023/
 11/nyscannabis-people-2023-drkdemarco-2.jpg
CATEGORIES:Health &amp; Wellness,Workshops
LOCATION:Empire State Plaza Convention Center - Meeting Room 4\, 279 Madiso
 n Ave\, Albany\, NY\, 12242\, United States
X-APPLE-STRUCTURED-LOCATION;VALUE=URI;X-ADDRESS=279 Madison Ave\, Albany\, 
 NY\, 12242\, United States;X-APPLE-RADIUS=100;X-TITLE=Empire State Plaza C
 onvention Center - Meeting Room 4:geo:0,0
END:VEVENT
BEGIN:VTIMEZONE
TZID:America/New_York
X-LIC-LOCATION:America/New_York
BEGIN:STANDARD
DTSTART:20231105T010000
TZOFFSETFROM:-0400
TZOFFSETTO:-0500
TZNAME:EST
END:STANDARD
END:VTIMEZONE
END:VCALENDAR