BEGIN:VCALENDAR
VERSION:2.0
PRODID:-//wp-events-plugin.com//7.2.3.1//EN
TZID:America/New_York
X-WR-TIMEZONE:America/New_York
BEGIN:VEVENT
UID:11@nyscannabis.net
DTSTART;TZID=America/New_York:20211017T100000
DTEND;TZID=America/New_York:20211017T114500
DTSTAMP:20211012T193411Z
URL:https://nyscannabis.net/events/understanding-the-big-picture-when-it-c
 omes-to-the-nys-cannabis-business-marketplace/
SUMMARY:New York's New Cannabis Marketplace: How We Got Here And What Will 
 Make It Successful
DESCRIPTION:Join Andrew Schriever\, David Holland and members of our NYC an
 d Hudson Valley Cannabis Industry Associations’ leadership as they discu
 ss their work on some of the core policy issues that are needed to ensure 
 that the New York State Cannabis Market is as successful as possible. Take
  part in this overview of core topics that are essential to the business m
 arketplace:\n\n 	Banking\n 	Helping develop incubator projects\n 	What sho
 uld be allowed under cannabis licenses for the businesses to have the best
  chance to succeed\n 	How the home grow rules will spur industry growth\n 
 	Why amnesty for legacy operators/social equity prioritization are critica
 l components of ensuring the market is successful\n\nPanel Discussion foll
 owed by a general panel Q &amp\; A.\n\n\n\nPRESENTERS:\n\n\n\n 	Andrew Sch
 riever\n-President\, Hudson Valley Cannabis Industry Association (HVCIA)\n
 -Partner &amp\; Chair – Cuddy &amp\; Feder LLP\n\n\n\n 	David Holland\n-
 President\, New York City Cannabis Industry Association (NYCCIA)\n-Princip
 al\, Law Offices of David Clifford Holland\, P.C.\n\n&nbsp\;\n\n 	Associat
 ion Committee Leaders\n\n&nbsp\;
ATTACH;FMTTYPE=image/jpeg:https://nyscannabis.net/wp-content/uploads/2021/
 10/hvcia.jpg
CATEGORIES:Conference
LOCATION:Albany Capital Center - 2A-2C\, 55 Eagle St\, Albany\, NY\, 12207\
 , United States
X-APPLE-STRUCTURED-LOCATION;VALUE=URI;X-ADDRESS=55 Eagle St\, Albany\, NY\,
  12207\, United States;X-APPLE-RADIUS=100;X-TITLE=Albany Capital Center - 
 2A-2C:geo:0,0
END:VEVENT
BEGIN:VTIMEZONE
TZID:America/New_York
X-LIC-LOCATION:America/New_York
BEGIN:DAYLIGHT
DTSTART:20210314T030000
TZOFFSETFROM:-0500
TZOFFSETTO:-0400
TZNAME:EDT
END:DAYLIGHT
END:VTIMEZONE
END:VCALENDAR