BEGIN:VCALENDAR
VERSION:2.0
PRODID:-//wp-events-plugin.com//7.2.3.1//EN
TZID:America/New_York
X-WR-TIMEZONE:America/New_York
BEGIN:VEVENT
UID:45@nyscannabis.net
DTSTART;TZID=America/New_York:20231210T120000
DTEND;TZID=America/New_York:20231210T170000
DTSTAMP:20231110T014501Z
URL:https://nyscannabis.net/events/the-peoples-choice-holiday-cannabis-cup
 /
SUMMARY:The People's Choice Holiday Cannabis Cup!
DESCRIPTION:Public Evaluations @ 12pm-3pm\nAwards Ceremony @ 4pm\nFREE with
  Registration!\n\n\nCelebrate Some of NYS Best Cannabis Products!\nThe Peo
 ple's Choice Holiday Cannabis Cup is a festive and inclusive event that ce
 lebrates the best in cannabis products and the vibrant cannabis community.
  Held during the holiday season\, this unique competition invites consumer
 s to vote for their favorite New York Grown Cannabis Strains. Participants
  have the opportunity to evaluate a diverse array of offerings from New Yo
 rk State Brands. The event not only highlights excellence in cannabis craf
 tsmanship but also fosters a sense of community and camaraderie among cann
 abis enthusiasts. With a focus on quality\, innovation\, and the holiday s
 pirit\, The People's Choice Holiday Cannabis Cup provides a platform for b
 oth seasoned and novice consumers to discover and appreciate the finest ca
 nnabis products available.\n\nENTRY CATEGORIES:\n\nFLOWER\n\n 	Indica\n 	S
 ativa\n 	Hybrid\n\nPRE-ROLLS \n\n 	Pre-Roll Regular\n 	Pre-Roll – Infus
 ed\n\nCONCENTRATES\n\n 	Solvent Concentrates\n 	Non-Solvent Concentrates\n
 \nVAPE CARTRIDGES \n\nEDIBLES\n\n 	Baked Goods\n 	Chocolates\n 	Gummies\n 
 	Snacks\n\nTOPICALS\n\n\n\nInterested in Being a Competitor? Click HERE.\n
 \nInterested in Being a Judge? Click HERE.
ATTACH;FMTTYPE=image/jpeg:https://nyscannabis.net/wp-content/uploads/2023/
 11/group-of-business-people-are-proud-to-receive-an-a-2022-12-16-03-14-45-
 utc-1-scaled.jpg
CATEGORIES:Cannabis Cup
LOCATION:Empire State Plaza Convention Center\, 279 Madison Ave\, Albany\, 
 NY\, 12242\, United States
X-APPLE-STRUCTURED-LOCATION;VALUE=URI;X-ADDRESS=279 Madison Ave\, Albany\, 
 NY\, 12242\, United States;X-APPLE-RADIUS=100;X-TITLE=Empire State Plaza C
 onvention Center:geo:0,0
END:VEVENT
BEGIN:VTIMEZONE
TZID:America/New_York
X-LIC-LOCATION:America/New_York
BEGIN:STANDARD
DTSTART:20231105T010000
TZOFFSETFROM:-0400
TZOFFSETTO:-0500
TZNAME:EST
END:STANDARD
END:VTIMEZONE
END:VCALENDAR