BEGIN:VCALENDAR
VERSION:2.0
PRODID:-//wp-events-plugin.com//7.2.3.1//EN
TZID:America/New_York
X-WR-TIMEZONE:America/New_York
BEGIN:VEVENT
UID:40@nyscannabis.net
DTSTART;TZID=America/New_York:20221030T150000
DTEND;TZID=America/New_York:20221030T155000
DTSTAMP:20221029T011156Z
URL:https://nyscannabis.net/events/the-new-grow-center/
SUMMARY:SOS: Safe\, Organic\, and Sustainable Cultivation
DESCRIPTION:PRESENTERS:\n\n\n\n\n\nDwyane R. Norris\nCo-Founder\nThe New Gr
 ow Center LLC\n\n\n\n\n\n\n\n\nAlejandro Alvarez\nCo-Founder\nThe New Grow
  Center LLC\n\n\n\n\n\n\n\nDeivid R. Elliot\nCo-Founder\nThe New Grow Cent
 er LLC\n\n\n
ATTACH;FMTTYPE=image/jpeg:https://nyscannabis.net/wp-content/uploads/2022/
 10/nysc-logos-large-01-newgrowcenter.jpg
CATEGORIES:Better A Better Grower Workshop Series,Conference,Workshops
LOCATION:Albany Capital Center - Room 1A\, 55 Eagle St\, Albany\, NY\, 1220
 7\, United States
X-APPLE-STRUCTURED-LOCATION;VALUE=URI;X-ADDRESS=55 Eagle St\, Albany\, NY\,
  12207\, United States;X-APPLE-RADIUS=100;X-TITLE=Albany Capital Center - 
 Room 1A:geo:0,0
END:VEVENT
BEGIN:VTIMEZONE
TZID:America/New_York
X-LIC-LOCATION:America/New_York
BEGIN:DAYLIGHT
DTSTART:20220313T030000
TZOFFSETFROM:-0500
TZOFFSETTO:-0400
TZNAME:EDT
END:DAYLIGHT
END:VTIMEZONE
END:VCALENDAR