BEGIN:VCALENDAR
VERSION:2.0
PRODID:-//wp-events-plugin.com//7.2.3.1//EN
TZID:America/New_York
X-WR-TIMEZONE:America/New_York
BEGIN:VEVENT
UID:30@nyscannabis.net
DTSTART;TZID=America/New_York:20221030T140000
DTEND;TZID=America/New_York:20221030T145000
DTSTAMP:20221021T131301Z
URL:https://nyscannabis.net/events/the-importance-of-genetic-selection-for
 -cannabis-cultivation/
SUMMARY:The Importance of Genetic Selection for Cannabis Cultivation
DESCRIPTION:Of the many discrete horticultural disciplines central to canna
 bis cultivation\, selecting the best genetic material is perhaps the singl
 e most important consideration for a successful facility.\n\nThe consequen
 ces of genetic selection affect every subsequent part of the production pr
 ocess\, from the growers’ ability to maximize the plant’s positive exp
 ressions within available production parameters\, to the ability of post 
 – harvest techs to maintain quality through trimming and packaging\, to 
 the product’s shelf life and resistance to degradation.  The biggest co
 nsequence is whether your flower or extracts can meet the evolving desires
  of a growing market. To do that\, you need to be able to select for the s
 mells\, tastes\, and chemical profiles that lead to repeat customers.\nPRE
 SENTER:\n\nRich Koloszyc\nFarm Bug Co-op Member
ATTACH;FMTTYPE=image/jpeg:https://nyscannabis.net/wp-content/uploads/2022/
 10/cropped-rKoloszyc.jpg
CATEGORIES:Better A Better Grower Workshop Series,Conference,Workshops
LOCATION:Albany Capital Center - Room 1A\, 55 Eagle St\, Albany\, NY\, 1220
 7\, United States
X-APPLE-STRUCTURED-LOCATION;VALUE=URI;X-ADDRESS=55 Eagle St\, Albany\, NY\,
  12207\, United States;X-APPLE-RADIUS=100;X-TITLE=Albany Capital Center - 
 Room 1A:geo:0,0
END:VEVENT
BEGIN:VTIMEZONE
TZID:America/New_York
X-LIC-LOCATION:America/New_York
BEGIN:DAYLIGHT
DTSTART:20220313T030000
TZOFFSETFROM:-0500
TZOFFSETTO:-0400
TZNAME:EDT
END:DAYLIGHT
END:VTIMEZONE
END:VCALENDAR