BEGIN:VCALENDAR
VERSION:2.0
PRODID:-//wp-events-plugin.com//7.2.3.1//EN
TZID:America/New_York
X-WR-TIMEZONE:America/New_York
BEGIN:VEVENT
UID:31@nyscannabis.net
DTSTART;TZID=America/New_York:20221030T160000
DTEND;TZID=America/New_York:20221030T165000
DTSTAMP:20221022T172612Z
URL:https://nyscannabis.net/events/the-future-of-cannabis-cooperatives-in-
 new-york/
SUMMARY:The Future of Cannabis Cooperatives in New York
DESCRIPTION:New York Cannabis cooperative licenses will be issued to qualif
 ied groups authorizing them to acquire\, possess\, cultivate\, possess\, d
 istribute\, and sell from their licensed premises to duly licensed distrib
 utors\, on-site consumption sites\, existing medical marijuana dispensarie
 s\, and retail dispensaries.\n\nWhat does this license mean for commercial
  cannabis in the state\, and what will this look like on the ground as New
  York rolls out its legal and regulatory frameworks?\nMODERATOR:\n\nJ Jasp
 er\nFarm Bug Co-op Member\nPRESENTERS:\n\nEric Schwartz\nFarm Bug Co-op Fo
 unding Member\n\nKyle Sosebee\, Esq.\,\n Law Office of Kyle Sosebee LLC\n
ATTACH;FMTTYPE=image/jpeg:https://nyscannabis.net/wp-content/uploads/2022/
 09/cropped-jJasper.jpg
CATEGORIES:Business,Conference,Workshops
LOCATION:Albany Capital Center - Room 1B\, 55 Eagle St\, Albany\, NY\, 1220
 7\, United States
X-APPLE-STRUCTURED-LOCATION;VALUE=URI;X-ADDRESS=55 Eagle St\, Albany\, NY\,
  12207\, United States;X-APPLE-RADIUS=100;X-TITLE=Albany Capital Center - 
 Room 1B:geo:0,0
END:VEVENT
BEGIN:VTIMEZONE
TZID:America/New_York
X-LIC-LOCATION:America/New_York
BEGIN:DAYLIGHT
DTSTART:20220313T030000
TZOFFSETFROM:-0500
TZOFFSETTO:-0400
TZNAME:EDT
END:DAYLIGHT
END:VTIMEZONE
END:VCALENDAR