BEGIN:VCALENDAR
VERSION:2.0
PRODID:-//wp-events-plugin.com//7.2.3.1//EN
TZID:America/New_York
X-WR-TIMEZONE:America/New_York
BEGIN:VEVENT
UID:25@nyscannabis.net
DTSTART;TZID=America/New_York:20221030T140000
DTEND;TZID=America/New_York:20221030T145000
DTSTAMP:20221024T123255Z
URL:https://nyscannabis.net/events/the-future-of-cannabis-advocacy/
SUMMARY:The Future of Cannabis Advocacy
DESCRIPTION:Adult Recreational Cannabis is now Legal in New York State\, bu
 t is it being done right? What does the fight for fair and equitable acces
 s\, economic and social implications look like.\nFEATURING:\n\nGlenna Cola
 prete (MC)\nGlenna &amp\; Co. AUCC / AUCP\n\nKimberley Krepp\nCapital Dist
 rict Cannabis Consortium\n\nTyme Ferris\nPantheon Collective LLC\n\nCynthi
 a L. Mompoint\nThe Danbala Group\n\nMaur B. Stringer\nShakti Green Lit\n\n
 Darrin Chandler Jr\nPremium Genetics\n\nSamir Mahadin\nBreathing Web Farms
 \n\nTabetha Wilson\nAVillage\n\nEva Bass\nAVillage/Bridge Tha Gap Resource
  &amp\; Outreach inc.
ATTACH;FMTTYPE=image/jpeg:https://nyscannabis.net/wp-content/uploads/2022/
 09/cropped-kkrepp.jpg
CATEGORIES:Conference,Workshops,Workshops &amp; Classes
LOCATION:Albany Capital Center - Expo Stage\, 55 Eagle St\, Albany\, NY\, 1
 2207\, United States
X-APPLE-STRUCTURED-LOCATION;VALUE=URI;X-ADDRESS=55 Eagle St\, Albany\, NY\,
  12207\, United States;X-APPLE-RADIUS=100;X-TITLE=Albany Capital Center - 
 Expo Stage:geo:0,0
END:VEVENT
BEGIN:VTIMEZONE
TZID:America/New_York
X-LIC-LOCATION:America/New_York
BEGIN:DAYLIGHT
DTSTART:20220313T030000
TZOFFSETFROM:-0500
TZOFFSETTO:-0400
TZNAME:EDT
END:DAYLIGHT
END:VTIMEZONE
END:VCALENDAR