BEGIN:VCALENDAR
VERSION:2.0
PRODID:-//wp-events-plugin.com//7.2.3.1//EN
TZID:America/New_York
X-WR-TIMEZONE:America/New_York
BEGIN:VEVENT
UID:10@nyscannabis.net
DTSTART;TZID=America/New_York:20211017T140000
DTEND;TZID=America/New_York:20211017T144500
DTSTAMP:20211015T205652Z
URL:https://nyscannabis.net/events/sustainable-practices-in-the-nys-cannab
 is-industry/
SUMMARY:Environmental Justice and Sustainability in the NYS Cannabis Indust
 ry
DESCRIPTION:The Marijuana Regulation and Taxation Act places a strong empha
 sis on social equity and sustainability. Panelists will cover methods of a
 chieving environmental justice\, community responsibility\, sustainable op
 erations\, and climate resiliency.\n\n\n\nPRESENTERS:\n\n\n\n 	Rachel L. P
 artington\n-Attorney\, Knauf Shaw LLP\n\n\n\n 	Telisport Putsavage\n-Princ
 ipal\, Putsavage PLLC\n\n\n\n 	Dmitry Liapitch\n-Project Manager\, Larsen 
 Engineers\n
ATTACH;FMTTYPE=image/jpeg:https://nyscannabis.net/wp-content/uploads/2021/
 10/knaufshaw.jpg
CATEGORIES:Conference
LOCATION:Albany Capital Center - Room 1B\, 55 Eagle St\, Albany\, NY\, 1220
 7\, United States
X-APPLE-STRUCTURED-LOCATION;VALUE=URI;X-ADDRESS=55 Eagle St\, Albany\, NY\,
  12207\, United States;X-APPLE-RADIUS=100;X-TITLE=Albany Capital Center - 
 Room 1B:geo:0,0
END:VEVENT
BEGIN:VTIMEZONE
TZID:America/New_York
X-LIC-LOCATION:America/New_York
BEGIN:DAYLIGHT
DTSTART:20210314T030000
TZOFFSETFROM:-0500
TZOFFSETTO:-0400
TZNAME:EDT
END:DAYLIGHT
END:VTIMEZONE
END:VCALENDAR