BEGIN:VCALENDAR
VERSION:2.0
PRODID:-//wp-events-plugin.com//7.2.3.1//EN
TZID:America/New_York
X-WR-TIMEZONE:America/New_York
BEGIN:VEVENT
UID:12@nyscannabis.net
DTSTART;TZID=America/New_York:20211017T120000
DTEND;TZID=America/New_York:20211017T124500
DTSTAMP:20211016T154522Z
URL:https://nyscannabis.net/events/social-equity-in-nys-cannabis-industry/
SUMMARY:Social Equity Forum: Examining and Navigating the Marihuana Regulat
 ion and Taxation Act’s MRTA) Social Equity Categories and Social Respons
 ibility Framework
DESCRIPTION:A discussion on how New York State intends to deliver on their 
 proposed Social Equity goals and how to build a business around them.\n\nP
 RESENTERS:\n\n\n\n 	Glenna Colaprete\n-Social Equity Co-Chair\, New York C
 annabis Growers &amp\; Processors Association (NYCGPA)\n-CEO\, Glenna’s 
 CBD\n-Education Committee Member &amp\; Adjunct Professor\, Finger Lakes C
 ommunity College\n\n\n\n\n\n 	Samir Mahadin\n-Social Equity Co-Chair\, New
  York Cannabis Growers &amp\; Processors Association (NYCGPA)\n-Owner and 
 Founder\, Breathing Web Farms\n\n\n\n\n\n 	Joshua Littlejohn\n-Founder\, H
 igh Grade Brands\n-CEO\, The Commission Cartel\n\n\n\n 	Victoria Williams\
 n-ACC Illinios\n\n\n\n 	Kristin Jordan\n-CEO + Founder\, Park Jordan Real 
 Estate\n\n\n\n 	Cecilia Oyediran\n-Cannabis Attorney\, Foley Hoag LLP\n\n\
 n\n\n\n\n 	Darren Chandler Jr.\nCannabis Advocate\n\n\n
ATTACH;FMTTYPE=image/jpeg:https://nyscannabis.net/wp-content/uploads/2021/
 09/nyscgpa.jpg
CATEGORIES:Conference
LOCATION:Albany Capital Center - 2A-2C\, 55 Eagle St\, Albany\, NY\, 12207\
 , United States
X-APPLE-STRUCTURED-LOCATION;VALUE=URI;X-ADDRESS=55 Eagle St\, Albany\, NY\,
  12207\, United States;X-APPLE-RADIUS=100;X-TITLE=Albany Capital Center - 
 2A-2C:geo:0,0
END:VEVENT
BEGIN:VTIMEZONE
TZID:America/New_York
X-LIC-LOCATION:America/New_York
BEGIN:DAYLIGHT
DTSTART:20210314T030000
TZOFFSETFROM:-0500
TZOFFSETTO:-0400
TZNAME:EDT
END:DAYLIGHT
END:VTIMEZONE
END:VCALENDAR