BEGIN:VCALENDAR
VERSION:2.0
PRODID:-//wp-events-plugin.com//7.2.3.1//EN
TZID:America/New_York
X-WR-TIMEZONE:America/New_York
BEGIN:VEVENT
UID:43@nyscannabis.net
DTSTART;TZID=America/New_York:20231210T110000
DTEND;TZID=America/New_York:20231210T170000
DTSTAMP:20231110T014540Z
URL:https://nyscannabis.net/events/retail-expo/
SUMMARY:Holiday Gift Expo
DESCRIPTION:Enjoy NYS Cannabis\, CBD &amp\; Hemp\, Accessories Vendors and 
 Crafts people.\nFREE with Registration!\n\n&nbsp\;\n\nInterested in Being 
 a Vendor? Click HERE.
ATTACH;FMTTYPE=image/jpeg:https://nyscannabis.net/wp-content/uploads/2023/
 09/expo-header-2.jpg
CATEGORIES:EXPO
LOCATION:Empire State Plaza Convention Center\, 279 Madison Ave\, Albany\, 
 NY\, 12242\, United States
X-APPLE-STRUCTURED-LOCATION;VALUE=URI;X-ADDRESS=279 Madison Ave\, Albany\, 
 NY\, 12242\, United States;X-APPLE-RADIUS=100;X-TITLE=Empire State Plaza C
 onvention Center:geo:0,0
END:VEVENT
BEGIN:VTIMEZONE
TZID:America/New_York
X-LIC-LOCATION:America/New_York
BEGIN:STANDARD
DTSTART:20231105T010000
TZOFFSETFROM:-0400
TZOFFSETTO:-0500
TZNAME:EST
END:STANDARD
END:VTIMEZONE
END:VCALENDAR