BEGIN:VCALENDAR
VERSION:2.0
PRODID:-//wp-events-plugin.com//7.2.3.1//EN
TZID:America/New_York
X-WR-TIMEZONE:America/New_York
BEGIN:VEVENT
UID:6@nyscannabis.net
DTSTART;TZID=America/New_York:20211017T130000
DTEND;TZID=America/New_York:20211017T134500
DTSTAMP:20211014T020747Z
URL:https://nyscannabis.net/events/real-estate-in-cannabis-industry/
SUMMARY:Cannabis Real Estate and Government Relations
DESCRIPTION:Exploring the process of selecting sites\, identifying and work
 ing with local stakeholders and engaging municipal and state elected offic
 ials.\n\n\n\nPRESENTERS:\n\n\n\n 	Kristin Jordan\n-CEO + Founder\, Park Jo
 rdan Real Estate\n\n\n\n 	Katie Neer\n-General Counsel\, Lantern\n
ATTACH;FMTTYPE=image/jpeg:https://nyscannabis.net/wp-content/uploads/2021/
 10/parkjordan.jpg
CATEGORIES:Conference
LOCATION:Albany Capital Center - Room 1A\, 55 Eagle St\, Albany\, NY\, 1220
 7\, United States
X-APPLE-STRUCTURED-LOCATION;VALUE=URI;X-ADDRESS=55 Eagle St\, Albany\, NY\,
  12207\, United States;X-APPLE-RADIUS=100;X-TITLE=Albany Capital Center - 
 Room 1A:geo:0,0
END:VEVENT
BEGIN:VTIMEZONE
TZID:America/New_York
X-LIC-LOCATION:America/New_York
BEGIN:DAYLIGHT
DTSTART:20210314T030000
TZOFFSETFROM:-0500
TZOFFSETTO:-0400
TZNAME:EDT
END:DAYLIGHT
END:VTIMEZONE
END:VCALENDAR