BEGIN:VCALENDAR
VERSION:2.0
PRODID:-//wp-events-plugin.com//7.2.3.1//EN
TZID:America/New_York
X-WR-TIMEZONE:America/New_York
BEGIN:VEVENT
UID:7@nyscannabis.net
DTSTART;TZID=America/New_York:20211017T140000
DTEND;TZID=America/New_York:20211017T144500
DTSTAMP:20211012T193411Z
URL:https://nyscannabis.net/events/preparing-for-your-mrta-application/
SUMMARY:Starting the Journey to Licensure: How to Plan for an Application 
DESCRIPTION:Passage of the MRTA earlier this year established in an entirel
 y new regulatory framework for what’s projected to be a multi-billion do
 llar statewide industry. Within this framework are guidelines\, goals\, an
 d priorities for the licensing process. This workshop will explore how the
  law can give entrepreneurs insights into what they should be doing now to
  prepare for applying to the Office of Cannabis Management.\n\nWe will be 
 looking the following questions and more:\n\n 	Who will be prioritized for
  licensure?\n 	What type of information or plans will be required for the 
 application?\n 	How can entrepreneurs be proactive in their pursuit of a l
 icense?\n\n\n\n\nPRESENTER:\n\n\n\n 	Kaelan Castetter\n-Director of Policy
  Analysis\, Castetter Cannabis Group\n-Co-Founder &amp\; Vice President\, 
 New York Cannabis Growers &amp\; Processors Association (NYCGPA)\n
ATTACH;FMTTYPE=image/jpeg:https://nyscannabis.net/wp-content/uploads/2021/
 10/castetter.jpg
CATEGORIES:Conference
LOCATION:Albany Capital Center - Room 1A\, 55 Eagle St\, Albany\, NY\, 1220
 7\, United States
X-APPLE-STRUCTURED-LOCATION;VALUE=URI;X-ADDRESS=55 Eagle St\, Albany\, NY\,
  12207\, United States;X-APPLE-RADIUS=100;X-TITLE=Albany Capital Center - 
 Room 1A:geo:0,0
END:VEVENT
BEGIN:VTIMEZONE
TZID:America/New_York
X-LIC-LOCATION:America/New_York
BEGIN:DAYLIGHT
DTSTART:20210314T030000
TZOFFSETFROM:-0500
TZOFFSETTO:-0400
TZNAME:EDT
END:DAYLIGHT
END:VTIMEZONE
END:VCALENDAR