BEGIN:VCALENDAR
VERSION:2.0
PRODID:-//wp-events-plugin.com//7.2.3.1//EN
TZID:America/New_York
X-WR-TIMEZONE:America/New_York
BEGIN:VEVENT
UID:8@nyscannabis.net
DTSTART;TZID=America/New_York:20211017T120000
DTEND;TZID=America/New_York:20211017T124500
DTSTAMP:20211015T210503Z
URL:https://nyscannabis.net/events/preparing-for-your-mrta-application-2/
SUMMARY:Overview of the legal framework for MRTA
DESCRIPTION:An overview of the legal framework established by the Marihauan
 a Regulation and Taxation Act with a focus on adult use licensing and proc
 ess. This overview will describe the general licensure provisions of adult
  use through an analogous needs analysis conducted by the Department of He
 alth: character and competence\, financial resources\, legal review and ma
 rket need. The discussion will also touch upon the varying criminal\, soci
 al justice\, public health and taxation provisions of the Act.\n\n\n\nPRES
 ENTER:\n\n\n\n 	Matthew Leonardo\n-Principal\, Hinman Straub Law Firm\n
ATTACH;FMTTYPE=image/jpeg:https://nyscannabis.net/wp-content/uploads/2021/
 10/hinmanstraub.jpg
CATEGORIES:Conference
LOCATION:Albany Capital Center - Room 1B\, 55 Eagle St\, Albany\, NY\, 1220
 7\, United States
X-APPLE-STRUCTURED-LOCATION;VALUE=URI;X-ADDRESS=55 Eagle St\, Albany\, NY\,
  12207\, United States;X-APPLE-RADIUS=100;X-TITLE=Albany Capital Center - 
 Room 1B:geo:0,0
END:VEVENT
BEGIN:VTIMEZONE
TZID:America/New_York
X-LIC-LOCATION:America/New_York
BEGIN:DAYLIGHT
DTSTART:20210314T030000
TZOFFSETFROM:-0500
TZOFFSETTO:-0400
TZNAME:EDT
END:DAYLIGHT
END:VTIMEZONE
END:VCALENDAR