BEGIN:VCALENDAR
VERSION:2.0
PRODID:-//wp-events-plugin.com//7.2.3.1//EN
TZID:America/New_York
X-WR-TIMEZONE:America/New_York
BEGIN:VEVENT
UID:41@nyscannabis.net
DTSTART;TZID=America/New_York:20231209T180000
DTEND;TZID=America/New_York:20231209T210000
DTSTAMP:20231110T014429Z
URL:https://nyscannabis.net/events/pre-conference-meet-greet-3/
SUMMARY:Pre-Conference Meet & Greet
DESCRIPTION:Your chance to informally meet our Speakers\, Sponsors\, Vendor
 s and other Industry Professionals\n\n 	FREE with Registration!\n 	Cash Ba
 r/Drink Specials\n 	Complimentary Appetizers\n\n
ATTACH;FMTTYPE=image/jpeg:https://nyscannabis.net/wp-content/uploads/2023/
 11/argus-hotel-pic-1.jpg
CATEGORIES:Networking
LOCATION:The Argus Hotel & Cocktail Lounge\, 8 Thurlow Terrace\, Albany\, N
 Y\, 12203\, United States
X-APPLE-STRUCTURED-LOCATION;VALUE=URI;X-ADDRESS=8 Thurlow Terrace\, Albany\
 , NY\, 12203\, United States;X-APPLE-RADIUS=100;X-TITLE=The Argus Hotel & 
 Cocktail Lounge:geo:0,0
END:VEVENT
BEGIN:VTIMEZONE
TZID:America/New_York
X-LIC-LOCATION:America/New_York
BEGIN:STANDARD
DTSTART:20231105T010000
TZOFFSETFROM:-0400
TZOFFSETTO:-0500
TZNAME:EST
END:STANDARD
END:VTIMEZONE
END:VCALENDAR