BEGIN:VCALENDAR
VERSION:2.0
PRODID:-//wp-events-plugin.com//7.2.3.1//EN
TZID:America/New_York
X-WR-TIMEZONE:America/New_York
BEGIN:VEVENT
UID:19@nyscannabis.net
DTSTART;TZID=America/New_York:20221029T180000
DTEND;TZID=America/New_York:20221029T210000
DTSTAMP:20221021T134756Z
URL:https://nyscannabis.net/events/pre-conference-meet-greet-2/
SUMMARY:Pre-Conference Meet & Greet
DESCRIPTION:Tickets On Sale Now!\n\n\n\n&nbsp\;\nInterested in Being a Spon
 sor? Click HERE.
ATTACH;FMTTYPE=image/jpeg:https://nyscannabis.net/wp-content/uploads/2022/
 08/bs1118-image-kwvylrw4-kynnc7c2.jpg
CATEGORIES:Networking
LOCATION:C.H. Evans Brewing Co. at the Albany Pump Station\, 19 Quackenbush
  Square\, Albany\, NY\, 12207\, United States
X-APPLE-STRUCTURED-LOCATION;VALUE=URI;X-ADDRESS=19 Quackenbush Square\, Alb
 any\, NY\, 12207\, United States;X-APPLE-RADIUS=100;X-TITLE=C.H. Evans Bre
 wing Co. at the Albany Pump Station:geo:0,0
END:VEVENT
BEGIN:VTIMEZONE
TZID:America/New_York
X-LIC-LOCATION:America/New_York
BEGIN:DAYLIGHT
DTSTART:20220313T030000
TZOFFSETFROM:-0500
TZOFFSETTO:-0400
TZNAME:EDT
END:DAYLIGHT
END:VTIMEZONE
END:VCALENDAR