BEGIN:VCALENDAR
VERSION:2.0
PRODID:-//wp-events-plugin.com//7.2.3.1//EN
TZID:America/New_York
X-WR-TIMEZONE:America/New_York
BEGIN:VEVENT
UID:13@nyscannabis.net
DTSTART;TZID=America/New_York:20211017T130000
DTEND;TZID=America/New_York:20211017T134500
DTSTAMP:20211016T174001Z
URL:https://nyscannabis.net/events/parallels-between-hemp-cannabis-packagi
 ng-safety-product-regulations/
SUMMARY:Parallels Between Hemp & Cannabis Packaging\, Safety & Product Regu
 lations
DESCRIPTION:SPONSORED BY: \n\nThis seminar will address the potential paral
 lels between the current hemp food and beverage regulations\, and the upco
 ming adult use regulations for cannabis in New York State. The seminar wil
 l focus on product safety and cGMP regulations\, labeling requirements\, a
 nd product identity consistency. Achieving adherence to the food and bever
 age regulations\, will provide a major advantage to companies transitionin
 g into adult use cannabis market. The seminar will conclude with a Q &amp\
 ; A session to address any questions from the audience.\n\n\n\nPRESENTER:\
 n\n\n\n 	Jonathan DeMart\n-VP of Operations\, urbanXtracts\n
ATTACH;FMTTYPE=image/jpeg:https://nyscannabis.net/wp-content/uploads/2021/
 09/urbanxtracts.png
CATEGORIES:Conference
LOCATION:Albany Capital Center - 2A-2C\, 55 Eagle St\, Albany\, NY\, 12207\
 , United States
X-APPLE-STRUCTURED-LOCATION;VALUE=URI;X-ADDRESS=55 Eagle St\, Albany\, NY\,
  12207\, United States;X-APPLE-RADIUS=100;X-TITLE=Albany Capital Center - 
 2A-2C:geo:0,0
END:VEVENT
BEGIN:VTIMEZONE
TZID:America/New_York
X-LIC-LOCATION:America/New_York
BEGIN:DAYLIGHT
DTSTART:20210314T030000
TZOFFSETFROM:-0500
TZOFFSETTO:-0400
TZNAME:EDT
END:DAYLIGHT
END:VTIMEZONE
END:VCALENDAR