BEGIN:VCALENDAR
VERSION:2.0
PRODID:-//wp-events-plugin.com//7.2.3.1//EN
TZID:America/New_York
X-WR-TIMEZONE:America/New_York
BEGIN:VEVENT
UID:26@nyscannabis.net
DTSTART;TZID=America/New_York:20221030T150000
DTEND;TZID=America/New_York:20221030T155000
DTSTAMP:20221020T014452Z
URL:https://nyscannabis.net/events/pantheon-collective-llc-lgbtq-community
 -cannabis-activism-and-honoring-the-work/
SUMMARY:Pantheon Collective LLC  LGBTQ+ Community\, Cannabis Activism and H
 onoring the Work
DESCRIPTION:The history of cannabis prohibition as it directly affected the
  BIPOC\, farming\, and LGBTQ+ communities\; legalization legacy of the LGB
 TQ+ community\; and the need for LGBTQ+ inclusion within NYS social equity
  program.\nPRESENTER:\n\nTyme Ferris\nThe Pantheon Collective\, LLC
ATTACH;FMTTYPE=image/jpeg:https://nyscannabis.net/wp-content/uploads/2022/
 10/cropped-tFerris.jpg
CATEGORIES:Conference,Workshops,Workshops &amp; Classes
LOCATION:Albany Capital Center - Expo Stage\, 55 Eagle St\, Albany\, NY\, 1
 2207\, United States
X-APPLE-STRUCTURED-LOCATION;VALUE=URI;X-ADDRESS=55 Eagle St\, Albany\, NY\,
  12207\, United States;X-APPLE-RADIUS=100;X-TITLE=Albany Capital Center - 
 Expo Stage:geo:0,0
END:VEVENT
BEGIN:VTIMEZONE
TZID:America/New_York
X-LIC-LOCATION:America/New_York
BEGIN:DAYLIGHT
DTSTART:20220313T030000
TZOFFSETFROM:-0500
TZOFFSETTO:-0400
TZNAME:EDT
END:DAYLIGHT
END:VTIMEZONE
END:VCALENDAR