BEGIN:VCALENDAR
VERSION:2.0
PRODID:-//wp-events-plugin.com//7.2.3.1//EN
TZID:America/New_York
X-WR-TIMEZONE:America/New_York
BEGIN:VEVENT
UID:16@nyscannabis.net
DTSTART;TZID=America/New_York:20220809T110000
DTEND;TZID=America/New_York:20220809T180000
DTSTAMP:20220810T133213Z
URL:https://nyscannabis.net/events/nys-ocm-licenses-preparedness-workshops
 /
SUMMARY:NYS OCM Licenses Preparedness Workshops
DESCRIPTION:Attend a full day of NYS Cannabis Application Preparedness Even
 ts. Attend Panels specific to your license and connect with Attorneys who 
 can give you short-term and long-term guidance.\n\nEach General Admission 
 Ticket includes a 15 minute review with an Attorney of your current plan a
 nd strategy.\n\nSCHEDULE OF PANEL WORKSHOPS:\n\n11:00 am : Cultivator\n11:
 45 am : Processor\n12:30 pm : Cooperative\n1:15 pm : Distributor\n2:00 pm 
 : Retail Dispensary\n2:45 pm : Microbusiness\n3:30 pm : Delivery\n4:15 pm 
 : Nursery\n5:00 pm : On-site Consumption\n\n[bookit theme="step_by_step"]
ATTACH;FMTTYPE=image/jpeg:https://nyscannabis.net/wp-content/uploads/2022/
 07/speaker-presentation-international-conference-part-2021-09-03-23-34-47-
 utc-2000px.jpg
CATEGORIES:Workshops
LOCATION:Hampton Inn & Suites Albany-Downtown\, 25 Chapel St\, Albany\, NY\
 , 12210\, United States
X-APPLE-STRUCTURED-LOCATION;VALUE=URI;X-ADDRESS=25 Chapel St\, Albany\, NY\
 , 12210\, United States;X-APPLE-RADIUS=100;X-TITLE=Hampton Inn & Suites Al
 bany-Downtown:geo:0,0
END:VEVENT
BEGIN:VTIMEZONE
TZID:America/New_York
X-LIC-LOCATION:America/New_York
BEGIN:DAYLIGHT
DTSTART:20220313T030000
TZOFFSETFROM:-0500
TZOFFSETTO:-0400
TZNAME:EDT
END:DAYLIGHT
END:VTIMEZONE
END:VCALENDAR