BEGIN:VCALENDAR
VERSION:2.0
PRODID:-//wp-events-plugin.com//7.2.3.1//EN
TZID:America/New_York
X-WR-TIMEZONE:America/New_York
BEGIN:VEVENT
UID:35@nyscannabis.net
DTSTART;TZID=America/New_York:20221030T113000
DTEND;TZID=America/New_York:20221030T122000
DTSTAMP:20221021T133340Z
URL:https://nyscannabis.net/events/nys-cannabis-market-report-by-hvcia-nyc
 cia/
SUMMARY:NYS Cannabis Market Report by HVCIA/NYCCIA
DESCRIPTION:PRESENTERS:\n\nAndrew Schriever\nCo-Founder / President\nHudson
  Valley Cannabis Industry Association (HVCIA)\n\nDavid Holland\nCo-Founder
  / President\nNew York City Cannabis Industry Association (NYCCIA)\n\nSher
 i Tarr\nFounder / Chief Advisor\n’68 Partners LLC\n\nCandice Nonas\nChie
 f Risk Officer &amp\; Operations Executive\nRPG\n\nSally Nichols\nPresiden
 t\nBloom Farms\n\nClaire Hankin\nAssociate\nFeuerstein Kulick LLP\n\nJames
  Landau\nPartner\nPrince Lobel\n\nJohn Sullivan\nCo-Founder\nSullivan Adve
 ntures LLC
ATTACH;FMTTYPE=image/jpeg:https://nyscannabis.net/wp-content/uploads/2022/
 08/cropped-dholland.jpg
CATEGORIES:Business,Conference,Main Stage,Workshops
LOCATION:Albany Capital Center - 2A-2C\, 55 Eagle St\, Albany\, NY\, 12207\
 , United States
X-APPLE-STRUCTURED-LOCATION;VALUE=URI;X-ADDRESS=55 Eagle St\, Albany\, NY\,
  12207\, United States;X-APPLE-RADIUS=100;X-TITLE=Albany Capital Center - 
 2A-2C:geo:0,0
END:VEVENT
BEGIN:VTIMEZONE
TZID:America/New_York
X-LIC-LOCATION:America/New_York
BEGIN:DAYLIGHT
DTSTART:20220313T030000
TZOFFSETFROM:-0500
TZOFFSETTO:-0400
TZNAME:EDT
END:DAYLIGHT
END:VTIMEZONE
END:VCALENDAR