BEGIN:VCALENDAR
VERSION:2.0
PRODID:-//wp-events-plugin.com//7.2.3.1//EN
TZID:America/New_York
X-WR-TIMEZONE:America/New_York
BEGIN:VEVENT
UID:17@nyscannabis.net
DTSTART;TZID=America/New_York:20221030T110000
DTEND;TZID=America/New_York:20221030T170000
DTSTAMP:20221020T014451Z
URL:https://nyscannabis.net/events/nys-cannabis-conference-expo/
SUMMARY:Cannabis/CBD/Hemp/Smokers Expo
DESCRIPTION:Enjoy NYS Cannabis\, CBD &amp\; Hemp Vendors and Crafts people.
 \nRegister for FREE Now!\n\n&nbsp\;\n\nInterested in Being a Vendor? Click
  HERE.
ATTACH;FMTTYPE=image/jpeg:https://nyscannabis.net/wp-content/uploads/2022/
 08/shutterstock_2071424780-scaled.jpg
CATEGORIES:EXPO
LOCATION:Albany Capital Center - Expo Floor\, 55 Eagle St\, Albany\, NY\, 1
 2207\, United States
X-APPLE-STRUCTURED-LOCATION;VALUE=URI;X-ADDRESS=55 Eagle St\, Albany\, NY\,
  12207\, United States;X-APPLE-RADIUS=100;X-TITLE=Albany Capital Center - 
 Expo Floor:geo:0,0
END:VEVENT
BEGIN:VTIMEZONE
TZID:America/New_York
X-LIC-LOCATION:America/New_York
BEGIN:DAYLIGHT
DTSTART:20220313T030000
TZOFFSETFROM:-0500
TZOFFSETTO:-0400
TZNAME:EDT
END:DAYLIGHT
END:VTIMEZONE
END:VCALENDAR