BEGIN:VCALENDAR
VERSION:2.0
PRODID:-//wp-events-plugin.com//7.2.3.1//EN
TZID:America/New_York
X-WR-TIMEZONE:America/New_York
BEGIN:VEVENT
UID:15@nyscannabis.net
DTSTART;TZID=America/New_York:20220809T000000
DTEND;TZID=America/New_York:20220809T000000
DTSTAMP:20220810T133234Z
URL:https://nyscannabis.net/events/nys-cannabis-application-preparedness-w
 orkshop/
SUMMARY:NYS Cannabis Business Mixer
DESCRIPTION:Attend a full day of NYS Cannabis Application Preparedness Even
 ts. Attend Panels specific to your license and connect with Attorneys who 
 can give you short-term and long-term guidance.\n\nSPONSORED BY:
ATTACH;FMTTYPE=image/jpeg:https://nyscannabis.net/wp-content/uploads/2022/
 07/albbr-exterior-0005-hor-clsc.jpg
CATEGORIES:Networking
LOCATION:Renaissance Albany Hotel\, 144 State St\, \, Albany\, NY\, 12207\,
  United States
X-APPLE-STRUCTURED-LOCATION;VALUE=URI;X-ADDRESS=144 State St\, \, Albany\, 
 NY\, 12207\, United States;X-APPLE-RADIUS=100;X-TITLE=Renaissance Albany H
 otel:geo:0,0
END:VEVENT
BEGIN:VTIMEZONE
TZID:America/New_York
X-LIC-LOCATION:America/New_York
BEGIN:DAYLIGHT
DTSTART:20220313T030000
TZOFFSETFROM:-0500
TZOFFSETTO:-0400
TZNAME:EDT
END:DAYLIGHT
END:VTIMEZONE
END:VCALENDAR