BEGIN:VCALENDAR
VERSION:2.0
PRODID:-//wp-events-plugin.com//7.2.3.1//EN
TZID:America/New_York
X-WR-TIMEZONE:America/New_York
BEGIN:VEVENT
UID:39@nyscannabis.net
DTSTART;TZID=America/New_York:20221030T113000
DTEND;TZID=America/New_York:20221030T122000
DTSTAMP:20221021T133438Z
URL:https://nyscannabis.net/events/ny-indie-cannabis-retail-panel/
SUMMARY:NY Indie Cannabis Retail Panel
DESCRIPTION:Join 3 hemp retail operators from 3 different regions of NY as 
 they pull back the cannabis curtain and reveal what happens at the interse
 ction of the plant and the public.  \n\nWhile waiting for NY Adult Use Di
 spensary Licenses to become available\, we look to those with a track reco
 rd of operating in the current NY Hemp Cannabinoid Retail space for best p
 ractices and strategies to establish a foothold in the local economy\, dif
 ferentiate and build a retail brand\, drive traffic and sales\, and manage
  consumer expectation\, confusion and misinformation around legalization.
   This panel will address what it’s like to run a brick-and-mortar cann
 abis retail business with strict guardrails\, compliance demands\, and fin
 ancial limitations\, while educating the public and advocating for additio
 nal access to more parts of the plant. In a fledgling industry\, there are
 n't decades of data or years of protocol to rely on\, so questions exist a
 round customer conversion from prospect to loyal shopper.  What can a ret
 ailer say to a prospective client when there are less than 2 minutes to ed
 ucate and empower them to make the sale? What ways can cannabis brands imp
 rove the chances that a retailer will choose to bring their brand forward 
 when recommending products to clients? Join us for real talk about how the
  current NY hemp retail market holds the clues for the future of Adult Use
  cannabis retail.\nPRESENTERS:\n\nAnne Forkutza\nHead of Strategic Growth\
 nDutchie\n\nMelissa Gibson\nFounder\nQple LLC / Hemp &amp\; Humanity\n\nSt
 eve Phan\nFounder\nCome Back Daily\n\nNhi Kha\nFounder / CEO\nSativa Remed
 y
ATTACH;FMTTYPE=image/jpeg:https://nyscannabis.net/wp-content/uploads/2022/
 10/cropped-aForkutza.jpg
CATEGORIES:Business,Conference,Workshops
LOCATION:Albany Capital Center - Room 1B\, 55 Eagle St\, Albany\, NY\, 1220
 7\, United States
X-APPLE-STRUCTURED-LOCATION;VALUE=URI;X-ADDRESS=55 Eagle St\, Albany\, NY\,
  12207\, United States;X-APPLE-RADIUS=100;X-TITLE=Albany Capital Center - 
 Room 1B:geo:0,0
END:VEVENT
BEGIN:VTIMEZONE
TZID:America/New_York
X-LIC-LOCATION:America/New_York
BEGIN:DAYLIGHT
DTSTART:20220313T030000
TZOFFSETFROM:-0500
TZOFFSETTO:-0400
TZNAME:EDT
END:DAYLIGHT
END:VTIMEZONE
END:VCALENDAR