BEGIN:VCALENDAR
VERSION:2.0
PRODID:-//wp-events-plugin.com//7.2.3.1//EN
TZID:America/New_York
X-WR-TIMEZONE:America/New_York
BEGIN:VEVENT
UID:57@nyscannabis.net
DTSTART;TZID=America/New_York:20231210T110000
DTEND;TZID=America/New_York:20231210T115000
DTSTAMP:20231204T192543Z
URL:https://nyscannabis.net/events/main-stage-welcome/
SUMMARY:Main Stage: Welcome
DESCRIPTION:Welcome:\n\n\nDorcey Applyrs\nCity of Albany\, NY - Chief City 
 Auditor\nFREE with Registration!\n
ATTACH;FMTTYPE=image/jpeg:https://nyscannabis.net/wp-content/uploads/2023/
 11/nyscannabis-people-2023-dapplyrs.jpg
CATEGORIES:Business,Main Stage,Workshops
LOCATION:Empire State Plaza Convention Center - Main Stage\, 279 Madison Av
 e\, Albany\, NY\, 12242\, United States
X-APPLE-STRUCTURED-LOCATION;VALUE=URI;X-ADDRESS=279 Madison Ave\, Albany\, 
 NY\, 12242\, United States;X-APPLE-RADIUS=100;X-TITLE=Empire State Plaza C
 onvention Center - Main Stage:geo:0,0
END:VEVENT
BEGIN:VTIMEZONE
TZID:America/New_York
X-LIC-LOCATION:America/New_York
BEGIN:STANDARD
DTSTART:20231105T010000
TZOFFSETFROM:-0400
TZOFFSETTO:-0500
TZNAME:EST
END:STANDARD
END:VTIMEZONE
END:VCALENDAR