BEGIN:VCALENDAR
VERSION:2.0
PRODID:-//wp-events-plugin.com//7.2.3.1//EN
TZID:America/New_York
X-WR-TIMEZONE:America/New_York
BEGIN:VEVENT
UID:37@nyscannabis.net
DTSTART;TZID=America/New_York:20221030T123000
DTEND;TZID=America/New_York:20221030T132000
DTSTAMP:20221021T135949Z
URL:https://nyscannabis.net/events/keynote-speaker-ruben-lindo-blak-mar-fa
 rms/
SUMMARY:KEYNOTE SPEAKER: Ruben Lindo\, Blak Mar Farms
DESCRIPTION:The Globalization of the Cannabis Industry\nKEYNOTE SPEAKER\n\n
 Ruben Lindo\nInternational Cannabis Executive\nFounder/CEO of Blak Mar Far
 ms
ATTACH;FMTTYPE=image/jpeg:https://nyscannabis.net/wp-content/uploads/2022/
 10/Ruben-Lindo-e1666346381874.jpg
CATEGORIES:Business,Conference,Main Stage,Workshops
LOCATION:Albany Capital Center - 2A-2C\, 55 Eagle St\, Albany\, NY\, 12207\
 , United States
X-APPLE-STRUCTURED-LOCATION;VALUE=URI;X-ADDRESS=55 Eagle St\, Albany\, NY\,
  12207\, United States;X-APPLE-RADIUS=100;X-TITLE=Albany Capital Center - 
 2A-2C:geo:0,0
END:VEVENT
BEGIN:VTIMEZONE
TZID:America/New_York
X-LIC-LOCATION:America/New_York
BEGIN:DAYLIGHT
DTSTART:20220313T030000
TZOFFSETFROM:-0500
TZOFFSETTO:-0400
TZNAME:EDT
END:DAYLIGHT
END:VTIMEZONE
END:VCALENDAR