BEGIN:VCALENDAR
VERSION:2.0
PRODID:-//wp-events-plugin.com//7.2.3.1//EN
TZID:America/New_York
X-WR-TIMEZONE:America/New_York
BEGIN:VEVENT
UID:46@nyscannabis.net
DTSTART;TZID=America/New_York:20231210T120000
DTEND;TZID=America/New_York:20231210T160000
DTSTAMP:20231110T020945Z
URL:https://nyscannabis.net/events/home-growers-lounge-byob/
SUMMARY:Swap Meet/Home Growers Showcase (BYOB)﻿
DESCRIPTION:Come share your favorite strains and home grow experience with 
 others just like you.\n\n\n\n\n\nPeople 21 or older are allowed to possess
  up to 3 ounces of cannabis flower and 24 grams of cannabis concentrate (l
 ike edibles or oil).  - NYS OCM KNOW YOUR RIGHTS\n\n 	Bring Your Own Bud
  Samples\n 	Trade Growing Tips &amp\; Tricks with Other Home Grow Enthusia
 sts\n 	NO SALES ALLOWED!\n\nFREE with Registration!\n\n\n\n\n\n
ATTACH;FMTTYPE=image/jpeg:https://nyscannabis.net/wp-content/uploads/2023/
 11/cannabis-cbd-pills-oils-and-flower-buds-2022-11-15-11-11-17-utc-scaled.
 jpg
CATEGORIES:EXPO
LOCATION:Empire State Plaza Convention Center\, 279 Madison Ave\, Albany\, 
 NY\, 12242\, United States
X-APPLE-STRUCTURED-LOCATION;VALUE=URI;X-ADDRESS=279 Madison Ave\, Albany\, 
 NY\, 12242\, United States;X-APPLE-RADIUS=100;X-TITLE=Empire State Plaza C
 onvention Center:geo:0,0
END:VEVENT
BEGIN:VTIMEZONE
TZID:America/New_York
X-LIC-LOCATION:America/New_York
BEGIN:STANDARD
DTSTART:20231105T010000
TZOFFSETFROM:-0400
TZOFFSETTO:-0500
TZNAME:EST
END:STANDARD
END:VTIMEZONE
END:VCALENDAR