BEGIN:VCALENDAR
VERSION:2.0
PRODID:-//wp-events-plugin.com//7.2.3.1//EN
TZID:America/New_York
X-WR-TIMEZONE:America/New_York
BEGIN:VEVENT
UID:33@nyscannabis.net
DTSTART;TZID=America/New_York:20221030T150000
DTEND;TZID=America/New_York:20221030T155000
DTSTAMP:20221021T133438Z
URL:https://nyscannabis.net/events/growing-your-product-brand-vape-cbd-edi
 bles-infused/
SUMMARY:Growing Your Product Brand - Vape\, CBD\, Edibles & Infused
DESCRIPTION:PRESENTERS:\n\nJoshua LittleJohn\nHigh Grade Brands\nThe Commis
 sion Cartel\n\nRichard Marion\nHigh Grade Brands
ATTACH;FMTTYPE=image/jpeg:https://nyscannabis.net/wp-content/uploads/2021/
 09/cropped-jlittlejohn.jpg
CATEGORIES:Business,Conference,Workshops
LOCATION:Albany Capital Center - Room 1B\, 55 Eagle St\, Albany\, NY\, 1220
 7\, United States
X-APPLE-STRUCTURED-LOCATION;VALUE=URI;X-ADDRESS=55 Eagle St\, Albany\, NY\,
  12207\, United States;X-APPLE-RADIUS=100;X-TITLE=Albany Capital Center - 
 Room 1B:geo:0,0
END:VEVENT
BEGIN:VTIMEZONE
TZID:America/New_York
X-LIC-LOCATION:America/New_York
BEGIN:DAYLIGHT
DTSTART:20220313T030000
TZOFFSETFROM:-0500
TZOFFSETTO:-0400
TZNAME:EDT
END:DAYLIGHT
END:VTIMEZONE
END:VCALENDAR