BEGIN:VCALENDAR
VERSION:2.0
PRODID:-//wp-events-plugin.com//7.2.3.1//EN
TZID:America/New_York
X-WR-TIMEZONE:America/New_York
BEGIN:VEVENT
UID:9@nyscannabis.net
DTSTART;TZID=America/New_York:20211017T140000
DTEND;TZID=America/New_York:20211017T144500
DTSTAMP:20211014T213608Z
URL:https://nyscannabis.net/events/growing-your-product-brand-vape-cbd-edi
 bles-infused-products/
SUMMARY:Growing Your Product Brand - Vape\, CBD\, Edibles & Infused Product
 s
DESCRIPTION:\n\n\nLearn how to brand your product so it reaches the right a
 udience and sells well. Start building your brand book and explore paths f
 or campaign development.\n\n\n\n\n\n\n\n\nPRESENTERS:\n\n\n\n 	Joshua Litt
 lejohn\n-Founder\, High Grade Brands\n-CEO\, The Commission Cartel\n\n\n\n
  	Richard Marion\n-High Grade Brands\n\n\n\n 	Victoria Williams\n-ACC Illi
 nios\n
ATTACH;FMTTYPE=image/jpeg:https://nyscannabis.net/wp-content/uploads/2021/
 10/highgradebrands.jpg
CATEGORIES:Conference
LOCATION:Albany Capital Center - 2A-2C\, 55 Eagle St\, Albany\, NY\, 12207\
 , United States
X-APPLE-STRUCTURED-LOCATION;VALUE=URI;X-ADDRESS=55 Eagle St\, Albany\, NY\,
  12207\, United States;X-APPLE-RADIUS=100;X-TITLE=Albany Capital Center - 
 2A-2C:geo:0,0
END:VEVENT
BEGIN:VTIMEZONE
TZID:America/New_York
X-LIC-LOCATION:America/New_York
BEGIN:DAYLIGHT
DTSTART:20210314T030000
TZOFFSETFROM:-0500
TZOFFSETTO:-0400
TZNAME:EDT
END:DAYLIGHT
END:VTIMEZONE
END:VCALENDAR