BEGIN:VCALENDAR
VERSION:2.0
PRODID:-//wp-events-plugin.com//7.2.3.1//EN
TZID:America/New_York
X-WR-TIMEZONE:America/New_York
BEGIN:VEVENT
UID:60@nyscannabis.net
DTSTART;TZID=America/New_York:20251021T083000
DTEND;TZID=America/New_York:20251021T170000
DTSTAMP:20250916T141022Z
URL:https://nyscannabis.net/events/greenonthegreens/
SUMMARY:Green on the Greens: NYS Cannabis Golf Tournament Series 2025
DESCRIPTION:NEW DATE!!!\nTuesday\, October 21\, 2025\n\nNormanside Country 
 Club\n150 Salisbury Rd\nDelmar\, NY 12054\n18 holes Shotgun event for up t
 o 36 Teams!\n \nTEAM REGISTRATIONS:\n\n 	18-36 Teams! 18 Slots Reserved f
 or Licensed Industry Companies.\n 	4 Players Per Team\n\nRegistration incl
 udes:\n\n8:30 AM Registration w/ Complimentary Breakfast\n9:30 AM Shotgun 
 Start\n2:30 Awards Luncheon (2 Hr Open Bar)\n\n 	18 holes of Golf with car
 t\, access to our driving range\, short game area\, and practice putting g
 reen\,  game golf balls &amp\; tees\, and sunscreen.\n 	Gift Bags\n 	Priz
 es include Trophies\, Certificates &amp\; Swag Bags.\n 	Circling Beverage 
 Cart\n 	On-Course Snack Shack\n\nAll Team Members must be 21 &amp\; Over.\
 n\nAll teams will need to register team roster at registration\, including
  proof of age (ID).\n\nAll Team members must sign waiver at registration.\
 n\n 	Register Team Roster at Registration the Morning of the Event.\n\n"Se
 e you on the Greens!"\n
ATTACH;FMTTYPE=image/jpeg:https://nyscannabis.net/wp-content/uploads/2025/
 05/golfpic-logo.jpg
CATEGORIES:Special Events
LOCATION:Normanside Country Club\, 150 Salisbury Rd\, Delmar\, NY \, 12054\
 , United States
X-APPLE-STRUCTURED-LOCATION;VALUE=URI;X-ADDRESS=150 Salisbury Rd\, Delmar\,
  NY \, 12054\, United States;X-APPLE-RADIUS=100;X-TITLE=Normanside Country
  Club:geo:0,0
END:VEVENT
BEGIN:VTIMEZONE
TZID:America/New_York
X-LIC-LOCATION:America/New_York
BEGIN:DAYLIGHT
DTSTART:20250309T030000
TZOFFSETFROM:-0500
TZOFFSETTO:-0400
TZNAME:EDT
END:DAYLIGHT
END:VTIMEZONE
END:VCALENDAR