BEGIN:VCALENDAR
VERSION:2.0
PRODID:-//wp-events-plugin.com//7.2.3.1//EN
TZID:America/New_York
X-WR-TIMEZONE:America/New_York
BEGIN:VEVENT
UID:36@nyscannabis.net
DTSTART;TZID=America/New_York:20221030T150000
DTEND;TZID=America/New_York:20221030T155000
DTSTAMP:20221021T133340Z
URL:https://nyscannabis.net/events/getting-ready-for-a-nys-cannabis-licens
 e-application/
SUMMARY:Getting Ready for a NYS Cannabis License Application
DESCRIPTION:PRESENTERS:\n\nMichelle Fields\, Esq.\nStrategic Consultant &am
 p\; Global Advisor\nMary Jane Consulting Group\n\nMatthew Leonardo\nCounse
 l\nHinman Straub\n\nShane Pennington\nCounsel\nVicente Sederberg\n\nBenjam
 in Rattner\nCounsel\nCermele &amp\; Wood LLP\n\nJeffrey Hoffman\nAttorney\
 nLaw Office of Jeffrey Hoffman
ATTACH;FMTTYPE=image/jpeg:https://nyscannabis.net/wp-content/uploads/2021/
 09/cropped-mleonardo.jpg
CATEGORIES:Business,Conference,Main Stage,Workshops
LOCATION:Albany Capital Center - 2A-2C\, 55 Eagle St\, Albany\, NY\, 12207\
 , United States
X-APPLE-STRUCTURED-LOCATION;VALUE=URI;X-ADDRESS=55 Eagle St\, Albany\, NY\,
  12207\, United States;X-APPLE-RADIUS=100;X-TITLE=Albany Capital Center - 
 2A-2C:geo:0,0
END:VEVENT
BEGIN:VTIMEZONE
TZID:America/New_York
X-LIC-LOCATION:America/New_York
BEGIN:DAYLIGHT
DTSTART:20220313T030000
TZOFFSETFROM:-0500
TZOFFSETTO:-0400
TZNAME:EDT
END:DAYLIGHT
END:VTIMEZONE
END:VCALENDAR