BEGIN:VCALENDAR
VERSION:2.0
PRODID:-//wp-events-plugin.com//7.2.3.1//EN
TZID:America/New_York
X-WR-TIMEZONE:America/New_York
BEGIN:VEVENT
UID:14@nyscannabis.net
DTSTART;TZID=America/New_York:20211017T150000
DTEND;TZID=America/New_York:20211017T170000
DTSTAMP:20211013T005216Z
URL:https://nyscannabis.net/events/from-seed-to-sale-what-you-need-to-know
 /
SUMMARY:From Seed to Sale: What You Need to Know
DESCRIPTION:From seed to sale\, will cover the steps to launching and maint
 aining a successful brand. Topics include licensing\, real estate acquisit
 ion\, state and local laws\, developing standard operating procedures\, br
 anding and more.\n\n\n\nPRESENTER:\n\n\n\n 	Glenna Colaprete\n-CEO\, Glenn
 a’s CBD\n-Social Equity Co-Chair\, New York Cannabis Growers &amp\; Proc
 essors Association (NYCGPA)\n-Education Committee Member &amp\; Adjunct Pr
 ofessor\, Finger Lakes Community College\n\n\n\n 	Kaelan Castetter\n-Direc
 tor of Policy Analysis\, Castetter Cannabis Group\n-Co-Founder &amp\; Vice
  President\, New York Cannabis Growers &amp\; Processors Association (NYCG
 PA)\n\n\n\n 	Andrew Schriever\n-President\, Hudson Valley Cannabis Industr
 y Association (HVCIA)\n-Partner &amp\; Chair – Cuddy &amp\; Feder LLP\n\
 n\n\n 	David Holland\n-President\, New York City Cannabis Industry Associa
 tion (NYCCIA)\n-Principal\, Law Offices of David Clifford Holland\, P.C.\n
 \n\n\n 	Dan Johnston\n-CEO\, Empire Cannabiz\n-Principal\, Johnston Law LL
 C\n\n\n\n 	Joshua Littlejohn\n-Founder\, High Grade Brands\n-CEO\, The Com
 mission Cartel\n\n\n\n 	Rachel L. Partington\n-Attorney\, Knauf Shaw LLP\n
 \n\n\n 	Victoria Williams\n-ACC of Illinois\n
ATTACH;FMTTYPE=image/jpeg:https://nyscannabis.net/wp-content/uploads/2021/
 10/glennascbd-1.jpg
CATEGORIES:Conference
LOCATION:Albany Capital Center - 2A-2C\, 55 Eagle St\, Albany\, NY\, 12207\
 , United States
X-APPLE-STRUCTURED-LOCATION;VALUE=URI;X-ADDRESS=55 Eagle St\, Albany\, NY\,
  12207\, United States;X-APPLE-RADIUS=100;X-TITLE=Albany Capital Center - 
 2A-2C:geo:0,0
END:VEVENT
BEGIN:VTIMEZONE
TZID:America/New_York
X-LIC-LOCATION:America/New_York
BEGIN:DAYLIGHT
DTSTART:20210314T030000
TZOFFSETFROM:-0500
TZOFFSETTO:-0400
TZNAME:EDT
END:DAYLIGHT
END:VTIMEZONE
END:VCALENDAR