BEGIN:VCALENDAR
VERSION:2.0
PRODID:-//wp-events-plugin.com//7.2.3.1//EN
TZID:America/New_York
X-WR-TIMEZONE:America/New_York
BEGIN:VEVENT
UID:27@nyscannabis.net
DTSTART;TZID=America/New_York:20221030T110000
DTEND;TZID=America/New_York:20221030T112000
DTSTAMP:20221021T133340Z
URL:https://nyscannabis.net/events/conference-introduction/
SUMMARY:Conference Introduction
DESCRIPTION:Welcome all the NYS Cannabis Industry to Albany\, NY.\nFEATURIN
 G:\n\nKristin Jordan (MC)\nPark Jordan\n\n\n\n\nNYS Assembly Member\nPatri
 cia Fahy\nDistrict 109\n\nAlbany County Legislator\nCarolyn McLaughlin\n1s
 t District\n&nbsp\;\n\n\n
ATTACH;FMTTYPE=image/jpeg:https://nyscannabis.net/wp-content/uploads/2022/
 10/cropped-pFaney.jpg
CATEGORIES:Business,Conference,Main Stage,Workshops
LOCATION:Albany Capital Center - 2A-2C\, 55 Eagle St\, Albany\, NY\, 12207\
 , United States
X-APPLE-STRUCTURED-LOCATION;VALUE=URI;X-ADDRESS=55 Eagle St\, Albany\, NY\,
  12207\, United States;X-APPLE-RADIUS=100;X-TITLE=Albany Capital Center - 
 2A-2C:geo:0,0
END:VEVENT
BEGIN:VTIMEZONE
TZID:America/New_York
X-LIC-LOCATION:America/New_York
BEGIN:DAYLIGHT
DTSTART:20220313T030000
TZOFFSETFROM:-0500
TZOFFSETTO:-0400
TZNAME:EDT
END:DAYLIGHT
END:VTIMEZONE
END:VCALENDAR