BEGIN:VCALENDAR
VERSION:2.0
PRODID:-//wp-events-plugin.com//7.2.3.1//EN
TZID:America/New_York
X-WR-TIMEZONE:America/New_York
BEGIN:VEVENT
UID:18@nyscannabis.net
DTSTART;TZID=America/New_York:20221030T110000
DTEND;TZID=America/New_York:20221030T170000
DTSTAMP:20221021T135210Z
URL:https://nyscannabis.net/events/conference-how-to-break-into-the-nys-ca
 nnabis-industry/
SUMMARY:Conference: Business\, Social Equity & Advocacy
DESCRIPTION:Join our Expert Panelists for Workshops spanning the Industry.\
 nTickets On Sale Now!\n\nFull Conference Workshop Schedule\nInterested in 
 Being a Speaker? Click HERE.
ATTACH;FMTTYPE=image/jpeg:https://nyscannabis.net/wp-content/uploads/2022/
 08/black-microphone-conference-room-scaled.jpg
LOCATION:Albany Capital Center\, 55 Eagle St\, Albany\, NY\, 12207\, United
  States
X-APPLE-STRUCTURED-LOCATION;VALUE=URI;X-ADDRESS=55 Eagle St\, Albany\, NY\,
  12207\, United States;X-APPLE-RADIUS=100;X-TITLE=Albany Capital Center:ge
 o:0,0
END:VEVENT
BEGIN:VTIMEZONE
TZID:America/New_York
X-LIC-LOCATION:America/New_York
BEGIN:DAYLIGHT
DTSTART:20220313T030000
TZOFFSETFROM:-0500
TZOFFSETTO:-0400
TZNAME:EDT
END:DAYLIGHT
END:VTIMEZONE
END:VCALENDAR