BEGIN:VCALENDAR
VERSION:2.0
PRODID:-//wp-events-plugin.com//7.2.3.1//EN
TZID:America/New_York
X-WR-TIMEZONE:America/New_York
BEGIN:VEVENT
UID:21@nyscannabis.net
DTSTART;TZID=America/New_York:20221030T100000
DTEND;TZID=America/New_York:20221030T140000
DTSTAMP:20221021T134739Z
URL:https://nyscannabis.net/events/community-stakeholders-brunch/
SUMMARY:Community Stakeholder's Brunch
DESCRIPTION:Tickets On Sale Now!\n\n\nInterested in Being a Sponsor? Click 
 HERE.
ATTACH;FMTTYPE=image/jpeg:https://nyscannabis.net/wp-content/uploads/2022/
 08/restaurant-shaking-hands-smiling-suit-support-team-1431763-pxhere.com_-
 scaled.jpg
CATEGORIES:Networking
LOCATION:Renaissance Albany Hotel\, 144 State St\, \, Albany\, NY\, 12207\,
  United States
X-APPLE-STRUCTURED-LOCATION;VALUE=URI;X-ADDRESS=144 State St\, \, Albany\, 
 NY\, 12207\, United States;X-APPLE-RADIUS=100;X-TITLE=Renaissance Albany H
 otel:geo:0,0
END:VEVENT
BEGIN:VTIMEZONE
TZID:America/New_York
X-LIC-LOCATION:America/New_York
BEGIN:DAYLIGHT
DTSTART:20220313T030000
TZOFFSETFROM:-0500
TZOFFSETTO:-0400
TZNAME:EDT
END:DAYLIGHT
END:VTIMEZONE
END:VCALENDAR