BEGIN:VCALENDAR
VERSION:2.0
PRODID:-//wp-events-plugin.com//7.2.3.1//EN
TZID:America/New_York
X-WR-TIMEZONE:America/New_York
BEGIN:VEVENT
UID:24@nyscannabis.net
DTSTART;TZID=America/New_York:20221030T130000
DTEND;TZID=America/New_York:20221030T135000
DTSTAMP:20221024T124236Z
URL:https://nyscannabis.net/events/career-paths-in-the-nys-cannabis-indust
 ry-part-2/
SUMMARY:Career Paths in the NYS Cannabis Industry - Part 2
DESCRIPTION:Learn about employment opportunities\, workforce training progr
 ams and higher education available in New York State Cannabis Industry.\nF
 EATURING:\n\nDevon Brott (MC)\n\nTony Contento\, Ph.D\nSUNY Morrisvllie\n\
 nGlenna Colaprete\nFinger Lakes Community College\n\nChrista Haifley\, PhD
 \nSUNY Potsdam\n\nCharlene Dybas\nFulton-Montgomery Community College\n\nM
 aya Greene\nColumbia-Greene Community College\n\nDianna Dixon\nColumbia-Gr
 eene Community College\n\nSarah Wilson-Sparrow\nSUNY Schenectady County Co
 mmunity College\n\nCaelynn Prylo\nSUNY Adirondack\n\nLesley A. Judd\, PhD\
 nSUNY Cobleskill
ATTACH;FMTTYPE=image/jpeg:https://nyscannabis.net/wp-content/uploads/2022/
 09/cropped-sWilson-Sparrow.jpg
CATEGORIES:Career Fair,Conference,Workshops,Workshops &amp; Classes
LOCATION:Albany Capital Center - Expo Stage\, 55 Eagle St\, Albany\, NY\, 1
 2207\, United States
X-APPLE-STRUCTURED-LOCATION;VALUE=URI;X-ADDRESS=55 Eagle St\, Albany\, NY\,
  12207\, United States;X-APPLE-RADIUS=100;X-TITLE=Albany Capital Center - 
 Expo Stage:geo:0,0
END:VEVENT
BEGIN:VTIMEZONE
TZID:America/New_York
X-LIC-LOCATION:America/New_York
BEGIN:DAYLIGHT
DTSTART:20220313T030000
TZOFFSETFROM:-0500
TZOFFSETTO:-0400
TZNAME:EDT
END:DAYLIGHT
END:VTIMEZONE
END:VCALENDAR