BEGIN:VCALENDAR
VERSION:2.0
PRODID:-//wp-events-plugin.com//7.2.3.1//EN
TZID:America/New_York
X-WR-TIMEZONE:America/New_York
BEGIN:VEVENT
UID:23@nyscannabis.net
DTSTART;TZID=America/New_York:20221030T120000
DTEND;TZID=America/New_York:20221030T125000
DTSTAMP:20221020T014451Z
URL:https://nyscannabis.net/events/career-paths-in-the-nys-cannabis-indust
 ry-part-1/
SUMMARY:Career Paths in the NYS Cannabis Industry - Part 1
DESCRIPTION:Learn about employment opportunities\, workforce training progr
 ams and higher education available in New York State Cannabis Industry.\nF
 EATURING:\n\nDevon Brott (MC)\n\nJeanMarie Reinke\nWorkforce Development I
 nstitute (WDI)\n\nSamantha Adkisson\nNew York State Department of Labor Ca
 nnabis Employment\, Education and Development (CEED)\n\nSyracuse Universit
 y - TBD\n\nMatthew Leonardo\nAlbany Law School\n\nAkele Parnell\nLantern\n
 \nKevin Greene\nCleveland School of Cannabis
ATTACH;FMTTYPE=image/jpeg:https://nyscannabis.net/wp-content/uploads/2022/
 08/cropped-jreinke.jpg
CATEGORIES:Career Fair,Conference,Workshops,Workshops &amp; Classes
LOCATION:Albany Capital Center - Expo Stage\, 55 Eagle St\, Albany\, NY\, 1
 2207\, United States
X-APPLE-STRUCTURED-LOCATION;VALUE=URI;X-ADDRESS=55 Eagle St\, Albany\, NY\,
  12207\, United States;X-APPLE-RADIUS=100;X-TITLE=Albany Capital Center - 
 Expo Stage:geo:0,0
END:VEVENT
BEGIN:VTIMEZONE
TZID:America/New_York
X-LIC-LOCATION:America/New_York
BEGIN:DAYLIGHT
DTSTART:20220313T030000
TZOFFSETFROM:-0500
TZOFFSETTO:-0400
TZNAME:EDT
END:DAYLIGHT
END:VTIMEZONE
END:VCALENDAR