BEGIN:VCALENDAR
VERSION:2.0
PRODID:-//wp-events-plugin.com//7.2.3.1//EN
TZID:America/New_York
X-WR-TIMEZONE:America/New_York
BEGIN:VEVENT
UID:20@nyscannabis.net
DTSTART;TZID=America/New_York:20221030T110000
DTEND;TZID=America/New_York:20221030T170000
DTSTAMP:20221020T014451Z
URL:https://nyscannabis.net/events/career-fair/
SUMMARY:Cannabis Career Fair
DESCRIPTION:Looking to Grow Your Career in the NYS Cannabis Industry?\n\nTh
 is is your best opportunity to meet and get in-depth information from New 
 York State Educational Institutions and Employers.\nTickets On Sale Now!\n
 \n&nbsp\;\n\nInterested in Being a Vendor? Click HERE.
ATTACH;FMTTYPE=image/jpeg:https://nyscannabis.net/wp-content/uploads/2021/
 10/L.A._Opportunity_Youth_Job_Fair_24891157571-scaled.jpg
CATEGORIES:Career Fair
LOCATION:Albany Capital Center - Expo Floor\, 55 Eagle St\, Albany\, NY\, 1
 2207\, United States
X-APPLE-STRUCTURED-LOCATION;VALUE=URI;X-ADDRESS=55 Eagle St\, Albany\, NY\,
  12207\, United States;X-APPLE-RADIUS=100;X-TITLE=Albany Capital Center - 
 Expo Floor:geo:0,0
END:VEVENT
BEGIN:VTIMEZONE
TZID:America/New_York
X-LIC-LOCATION:America/New_York
BEGIN:DAYLIGHT
DTSTART:20220313T030000
TZOFFSETFROM:-0500
TZOFFSETTO:-0400
TZNAME:EDT
END:DAYLIGHT
END:VTIMEZONE
END:VCALENDAR