BEGIN:VCALENDAR
VERSION:2.0
PRODID:-//wp-events-plugin.com//7.2.3.1//EN
TZID:America/New_York
X-WR-TIMEZONE:America/New_York
BEGIN:VEVENT
UID:32@nyscannabis.net
DTSTART;TZID=America/New_York:20221030T160000
DTEND;TZID=America/New_York:20221030T165000
DTSTAMP:20221021T131301Z
URL:https://nyscannabis.net/events/cannacall-cultivation-classes/
SUMMARY:CannaCall Cultivation Classes
DESCRIPTION:CannaCall Solutions is our new company that is dedicated in hel
 ping medical patients in the cannabis industry. We focus on creating home 
 grows to save money for medical patients as well as offering cannabis cult
 ivation classes. We would like a one hour time slot at this event to go ov
 er the basics of our cannabis cultivation classes as well as our breakdown
  budgets for medical patient home grow kits.\nPRESENTERS:\n\nSidney Barret
 t\nPresident and Founder\nCannaCall Solutions\n\nTed Snowberger\nDirector 
 of Marketing\nCannaCall Solutions\n\nKyle Stack\nHead of Research &amp\; D
 evelopment\nCannaCall Solutions
ATTACH;FMTTYPE=image/jpeg:https://nyscannabis.net/wp-content/uploads/2022/
 09/cropped-sbarrett.jpg
CATEGORIES:Better A Better Grower Workshop Series,Conference,Workshops
LOCATION:Albany Capital Center - Room 1A\, 55 Eagle St\, Albany\, NY\, 1220
 7\, United States
X-APPLE-STRUCTURED-LOCATION;VALUE=URI;X-ADDRESS=55 Eagle St\, Albany\, NY\,
  12207\, United States;X-APPLE-RADIUS=100;X-TITLE=Albany Capital Center - 
 Room 1A:geo:0,0
END:VEVENT
BEGIN:VTIMEZONE
TZID:America/New_York
X-LIC-LOCATION:America/New_York
BEGIN:DAYLIGHT
DTSTART:20220313T030000
TZOFFSETFROM:-0500
TZOFFSETTO:-0400
TZNAME:EDT
END:DAYLIGHT
END:VTIMEZONE
END:VCALENDAR