BEGIN:VCALENDAR
VERSION:2.0
PRODID:-//wp-events-plugin.com//7.2.3.1//EN
TZID:America/New_York
X-WR-TIMEZONE:America/New_York
BEGIN:VEVENT
UID:42@nyscannabis.net
DTSTART;TZID=America/New_York:20231210T110000
DTEND;TZID=America/New_York:20231210T170000
DTSTAMP:20231110T020854Z
URL:https://nyscannabis.net/events/cannabis-career-fair/
SUMMARY:Cannabis Career Fair
DESCRIPTION:Looking to Grow Your Career in the NYS Cannabis Industry?\n\nTh
 is is your best opportunity to meet and get in-depth information from New 
 York State Educational Institutions and Employers.\nFREE with Registration
 !\n\nFREE VIRTUAL CAREER FAIR\n\n 	Upload A Resume\n 	Post A Job\n\n&nbsp\
 ;\n\n 	FREE Career Fair Booths for Colleges\, Universities\, Government Ag
 encies and Non-Profits. Click HERE.\n 	Apply for Small Business Discount
 ed or FREE Vendor Booth. Click HERE.\n 	Interested in Being a Sponsor? 
 Click HERE.\n
ATTACH;FMTTYPE=image/jpeg:https://nyscannabis.net/wp-content/uploads/2023/
 09/group-of-young-candidates-sitting-at-boardroom-tab-2021-08-26-16-15-19-
 utc-scaled.jpg
CATEGORIES:Career Fair
LOCATION:Empire State Plaza Convention Center\, 279 Madison Ave\, Albany\, 
 NY\, 12242\, United States
X-APPLE-STRUCTURED-LOCATION;VALUE=URI;X-ADDRESS=279 Madison Ave\, Albany\, 
 NY\, 12242\, United States;X-APPLE-RADIUS=100;X-TITLE=Empire State Plaza C
 onvention Center:geo:0,0
END:VEVENT
BEGIN:VTIMEZONE
TZID:America/New_York
X-LIC-LOCATION:America/New_York
BEGIN:STANDARD
DTSTART:20231105T010000
TZOFFSETFROM:-0400
TZOFFSETTO:-0500
TZNAME:EST
END:STANDARD
END:VTIMEZONE
END:VCALENDAR