BEGIN:VCALENDAR
VERSION:2.0
PRODID:-//wp-events-plugin.com//7.2.3.1//EN
TZID:America/New_York
X-WR-TIMEZONE:America/New_York
BEGIN:VEVENT
UID:29@nyscannabis.net
DTSTART;TZID=America/New_York:20221030T123000
DTEND;TZID=America/New_York:20221030T132000
DTSTAMP:20221021T131301Z
URL:https://nyscannabis.net/events/biologicals-the-future-of-cannabis-grow
 ing/
SUMMARY:Biologicals – The Future of Cannabis Growing
DESCRIPTION:The future of cannabis growing is Green and safe. No Forever ch
 emicals and signs saying that a toxic chemical has been used. Biologicals 
 are the secret to successful growing as they can positively affect over a 
 dozen important traits in cannabis\, including yield and levels of both ca
 nnabinoids and terpenes. This workshop will show you how to grow with Biol
 ogicals.\nPRESENTER:\n\nDr. Paul Rushton M.A.\, Ph.D.\nLPC Naturals
ATTACH;FMTTYPE=image/jpeg:https://nyscannabis.net/wp-content/uploads/2022/
 08/cropped-prushton.jpg
CATEGORIES:Better A Better Grower Workshop Series,Conference,Workshops
LOCATION:Albany Capital Center - Room 1A\, 55 Eagle St\, Albany\, NY\, 1220
 7\, United States
X-APPLE-STRUCTURED-LOCATION;VALUE=URI;X-ADDRESS=55 Eagle St\, Albany\, NY\,
  12207\, United States;X-APPLE-RADIUS=100;X-TITLE=Albany Capital Center - 
 Room 1A:geo:0,0
END:VEVENT
BEGIN:VTIMEZONE
TZID:America/New_York
X-LIC-LOCATION:America/New_York
BEGIN:DAYLIGHT
DTSTART:20220313T030000
TZOFFSETFROM:-0500
TZOFFSETTO:-0400
TZNAME:EDT
END:DAYLIGHT
END:VTIMEZONE
END:VCALENDAR