BEGIN:VCALENDAR
VERSION:2.0
PRODID:-//wp-events-plugin.com//7.2.3.1//EN
TZID:America/New_York
X-WR-TIMEZONE:America/New_York
BEGIN:VEVENT
UID:22@nyscannabis.net
DTSTART;TZID=America/New_York:20221030T170000
DTEND;TZID=America/New_York:20221030T180000
DTSTAMP:20221022T154005Z
URL:https://nyscannabis.net/events/bcia-1st-annual-meeting/
SUMMARY:BCIA Inaugural New Member's Meeting & Membership Drive
DESCRIPTION:The Black Cannabis Industry Association\, Inc. will hold it's B
 CIA Inaugural Member Meeting &amp\; Membership Drive.\nRegister for FREE N
 ow!\n\n&nbsp\;\n\nInterested in Being a Vendor? Click HERE.
ATTACH;FMTTYPE=image/jpeg:https://nyscannabis.net/wp-content/uploads/2022/
 08/bcia-logo-01.png
CATEGORIES:Business,Conference,Main Stage,Workshops
LOCATION:Albany Capital Center - 2A-2C\, 55 Eagle St\, Albany\, NY\, 12207\
 , United States
X-APPLE-STRUCTURED-LOCATION;VALUE=URI;X-ADDRESS=55 Eagle St\, Albany\, NY\,
  12207\, United States;X-APPLE-RADIUS=100;X-TITLE=Albany Capital Center - 
 2A-2C:geo:0,0
END:VEVENT
BEGIN:VTIMEZONE
TZID:America/New_York
X-LIC-LOCATION:America/New_York
BEGIN:DAYLIGHT
DTSTART:20220313T030000
TZOFFSETFROM:-0500
TZOFFSETTO:-0400
TZNAME:EDT
END:DAYLIGHT
END:VTIMEZONE
END:VCALENDAR